BEGIN:VCALENDAR
VERSION:2.0
PRODID:-//Plone.org//NONSGML plone.app.event//EN
X-WR-TIMEZONE:Europe/Berlin
BEGIN:VEVENT
SUMMARY:Seminar series: Thomas Blanpied
DTSTART;TZID=Europe/Berlin:20230921T160000
DTEND;TZID=Europe/Berlin:20230921T173000
DTSTAMP:20260424T065647Z
UID:b565a66d23bf4d06a8e3f09512079fac@www.neurotecheu.uni-bonn.de
CREATED:20230914T142310Z
DESCRIPTION:There will be a talk about: "Conserved\, dynamic\, and plastic
  elements of nanoarchitecture driving synaptic transmission". \n\nThere is
  also the possibility to join a roundtable discussion after the talk\, via
  Zoom. If you are interested it participating\, please contact: students@b
 igs-neuroscience.de
LAST-MODIFIED:20250905T221645Z
URL:https://www.neurotecheu.uni-bonn.de/en/events-nteu/seminar-series-thom
 as-blanpied
END:VEVENT
BEGIN:VTIMEZONE
TZID:Europe/Berlin
X-LIC-LOCATION:Europe/Berlin
BEGIN:DAYLIGHT
DTSTART:20230326T030000
TZNAME:CEST
TZOFFSETFROM:+0100
TZOFFSETTO:+0200
END:DAYLIGHT
END:VTIMEZONE
END:VCALENDAR
